BEGIN:VCALENDAR
VERSION:2.0
PRODID:-//Ella Taylor - ECPv6.15.20//NONSGML v1.0//EN
CALSCALE:GREGORIAN
METHOD:PUBLISH
X-WR-CALNAME:Ella Taylor
X-ORIGINAL-URL:https://www.ellataylorsoprano.co.uk
X-WR-CALDESC:Events for Ella Taylor
REFRESH-INTERVAL;VALUE=DURATION:PT1H
X-Robots-Tag:noindex
X-PUBLISHED-TTL:PT1H
BEGIN:VTIMEZONE
TZID:Europe/London
BEGIN:DAYLIGHT
TZOFFSETFROM:+0000
TZOFFSETTO:+0100
TZNAME:BST
DTSTART:20250330T010000
END:DAYLIGHT
BEGIN:STANDARD
TZOFFSETFROM:+0100
TZOFFSETTO:+0000
TZNAME:GMT
DTSTART:20251026T010000
END:STANDARD
BEGIN:DAYLIGHT
TZOFFSETFROM:+0000
TZOFFSETTO:+0100
TZNAME:BST
DTSTART:20260329T010000
END:DAYLIGHT
BEGIN:STANDARD
TZOFFSETFROM:+0100
TZOFFSETTO:+0000
TZNAME:GMT
DTSTART:20261025T010000
END:STANDARD
BEGIN:DAYLIGHT
TZOFFSETFROM:+0000
TZOFFSETTO:+0100
TZNAME:BST
DTSTART:20270328T010000
END:DAYLIGHT
BEGIN:STANDARD
TZOFFSETFROM:+0100
TZOFFSETTO:+0000
TZNAME:GMT
DTSTART:20271031T010000
END:STANDARD
END:VTIMEZONE
BEGIN:VEVENT
DTSTART;TZID=Europe/London:20260615T193000
DTEND;TZID=Europe/London:20260615T203000
DTSTAMP:20260424T110454
CREATED:20260217T172257Z
LAST-MODIFIED:20260217T172257Z
UID:1264-1781551800-1781555400@www.ellataylorsoprano.co.uk
SUMMARY:Barber - Knoxville: Summer of 1915
DESCRIPTION:Part of the Live at St Mary-le-Bow festival \n\nShaw – Entr’acte\n\n​Copland – Letters from Home \n​Barber – Knoxville: Summer of 1915 \n​Barber – Adagio for Strings​ \n \n\n\nConductor: Alex Fryer \n​Soprano: Ella Taylor
URL:https://www.ellataylorsoprano.co.uk/event/barber-knoxville-summer-of-1915/
LOCATION:St Mary-le-Bow\, Cheapside\, London\, EC2V 6AU\, United Kingdom
END:VEVENT
END:VCALENDAR