BEGIN:VCALENDAR
VERSION:2.0
PRODID:-//Ella Taylor - ECPv6.15.20//NONSGML v1.0//EN
CALSCALE:GREGORIAN
METHOD:PUBLISH
X-WR-CALNAME:Ella Taylor
X-ORIGINAL-URL:https://www.ellataylorsoprano.co.uk
X-WR-CALDESC:Events for Ella Taylor
REFRESH-INTERVAL;VALUE=DURATION:PT1H
X-Robots-Tag:noindex
X-PUBLISHED-TTL:PT1H
BEGIN:VTIMEZONE
TZID:Europe/London
BEGIN:DAYLIGHT
TZOFFSETFROM:+0000
TZOFFSETTO:+0100
TZNAME:BST
DTSTART:20160327T010000
END:DAYLIGHT
BEGIN:STANDARD
TZOFFSETFROM:+0100
TZOFFSETTO:+0000
TZNAME:GMT
DTSTART:20161030T010000
END:STANDARD
BEGIN:DAYLIGHT
TZOFFSETFROM:+0000
TZOFFSETTO:+0100
TZNAME:BST
DTSTART:20170326T010000
END:DAYLIGHT
BEGIN:STANDARD
TZOFFSETFROM:+0100
TZOFFSETTO:+0000
TZNAME:GMT
DTSTART:20171029T010000
END:STANDARD
BEGIN:DAYLIGHT
TZOFFSETFROM:+0000
TZOFFSETTO:+0100
TZNAME:BST
DTSTART:20180325T010000
END:DAYLIGHT
BEGIN:STANDARD
TZOFFSETFROM:+0100
TZOFFSETTO:+0000
TZNAME:GMT
DTSTART:20181028T010000
END:STANDARD
BEGIN:DAYLIGHT
TZOFFSETFROM:+0000
TZOFFSETTO:+0100
TZNAME:BST
DTSTART:20190331T010000
END:DAYLIGHT
BEGIN:STANDARD
TZOFFSETFROM:+0100
TZOFFSETTO:+0000
TZNAME:GMT
DTSTART:20191027T010000
END:STANDARD
END:VTIMEZONE
BEGIN:VEVENT
DTSTART;TZID=Europe/London:20180309T190000
DTEND;TZID=Europe/London:20180309T203000
DTSTAMP:20260423T101642
CREATED:20180225T195012Z
LAST-MODIFIED:20180225T195012Z
UID:331-1520622000-1520627400@www.ellataylorsoprano.co.uk
SUMMARY:CAVE
DESCRIPTION:Performing Satie’s Socrate and Andriessen’s De Staat with other performers from the Royal Academy of Music in the Duke’s Hall.
URL:https://www.ellataylorsoprano.co.uk/event/cave/
LOCATION:Royal Academy of Music\, Marylebone Rd\, Marylebone\, London\, NW1 5HT\, United Kingdom
END:VEVENT
BEGIN:VEVENT
DTSTART;TZID=Europe/London:20180303T183000
DTEND;TZID=Europe/London:20180303T210000
DTSTAMP:20260423T101642
CREATED:20170818T135006Z
LAST-MODIFIED:20170818T135006Z
UID:266-1520101800-1520110800@www.ellataylorsoprano.co.uk
SUMMARY:Bach - St Matthew Passion
DESCRIPTION:Soprano soloist with the Sheffield Bach Choir.
URL:https://www.ellataylorsoprano.co.uk/event/bach-st-matthew-passion/
LOCATION:Sheffield Cathedral\, Church Street\, Sheffield\, S1 1HA\, United Kingdom
END:VEVENT
BEGIN:VEVENT
DTSTART;TZID=Europe/London:20180227T130000
DTEND;TZID=Europe/London:20180227T140000
DTSTAMP:20260423T101642
CREATED:20171027T144421Z
LAST-MODIFIED:20171027T144421Z
UID:295-1519736400-1519740000@www.ellataylorsoprano.co.uk
SUMMARY:Waley Cohen - We Phonetican Sailors
DESCRIPTION:Performing as part of The Royal Academy of Music’s British Chamber Music Festival.
URL:https://www.ellataylorsoprano.co.uk/event/waley-cohen-we-phonetican-sailors/
LOCATION:Royal Academy of Music\, Marylebone Rd\, Marylebone\, London\, NW1 5HT\, United Kingdom
END:VEVENT
BEGIN:VEVENT
DTSTART;TZID=Europe/London:20180218T120000
DTEND;TZID=Europe/London:20180218T133000
DTSTAMP:20260423T101642
CREATED:20180104T195358Z
LAST-MODIFIED:20180104T195358Z
UID:318-1518955200-1518960600@www.ellataylorsoprano.co.uk
SUMMARY:Bach - Cantata 184 (Erwünschtes Freudenlicht) and 243 (Magnificat)
DESCRIPTION:Performing as a Chorus member in the Kohn Foundation Canata Series in the Duke’s Hall at the Royal Academy of Music.
URL:https://www.ellataylorsoprano.co.uk/event/bach-cantata-184-erwunschtes-freudenlicht-and-243-magnificat/
LOCATION:Royal Academy of Music\, Marylebone Rd\, Marylebone\, London\, NW1 5HT\, United Kingdom
END:VEVENT
BEGIN:VEVENT
DTSTART;TZID=Europe/London:20180209T180000
DTEND;TZID=Europe/London:20180209T200000
DTSTAMP:20260423T101642
CREATED:20180104T195734Z
LAST-MODIFIED:20180104T195734Z
UID:322-1518199200-1518206400@www.ellataylorsoprano.co.uk
SUMMARY:Benjamin - Scene 6 from Written on Skin
DESCRIPTION:Performing as part of the Royal Academy of Music Vocal Faculty Opera Scenes in the New Theatre. \nElla Taylor – Agnés\nHamish McClaren – The Boy
URL:https://www.ellataylorsoprano.co.uk/event/benjamin-scene-6-from-written-on-skin-2/
LOCATION:Royal Academy of Music\, Marylebone Rd\, Marylebone\, London\, NW1 5HT\, United Kingdom
END:VEVENT
BEGIN:VEVENT
DTSTART;TZID=Europe/London:20180208T180000
DTEND;TZID=Europe/London:20180208T200000
DTSTAMP:20260423T101642
CREATED:20180104T195635Z
LAST-MODIFIED:20180104T195635Z
UID:320-1518112800-1518120000@www.ellataylorsoprano.co.uk
SUMMARY:Benjamin - Scene 6 from Written on Skin
DESCRIPTION:Performing as part of the Royal Academy of Music Vocal Faculty Opera Scenes in the New Theatre. \nElla Taylor – Agnés\nHamish McClaren – The Boy
URL:https://www.ellataylorsoprano.co.uk/event/benjamin-scene-6-from-written-on-skin/
LOCATION:Royal Academy of Music\, Marylebone Rd\, Marylebone\, London\, NW1 5HT\, United Kingdom
END:VEVENT
BEGIN:VEVENT
DTSTART;TZID=Europe/London:20180203T193000
DTEND;TZID=Europe/London:20180203T213000
DTSTAMP:20260423T101642
CREATED:20180104T194838Z
LAST-MODIFIED:20180104T194838Z
UID:314-1517686200-1517693400@www.ellataylorsoprano.co.uk
SUMMARY:Mahler - 5 Rückert Lieder
DESCRIPTION:Performing as a soloist with the Strand Chamber Orchestra.
URL:https://www.ellataylorsoprano.co.uk/event/mahler-5-ruckert-lieder/
LOCATION:King’s College London Chapel\, Strand Campus\, Strand\, London\, WC2R 2LS
END:VEVENT
BEGIN:VEVENT
DTSTART;TZID=Europe/London:20180113T193000
DTEND;TZID=Europe/London:20180113T213000
DTSTAMP:20260423T101642
CREATED:20171123T161408Z
LAST-MODIFIED:20171123T161408Z
UID:301-1515871800-1515879000@www.ellataylorsoprano.co.uk
SUMMARY:Gorecki - Symphony of Sorrowful Songs
DESCRIPTION:Performing as the soprano soloist in a fundraising concert for the Sheffield Music Hub.
URL:https://www.ellataylorsoprano.co.uk/event/gorecki-symphony-of-sorrowful-songs/
LOCATION:Sheffield Cathedral\, Church Street\, Sheffield\, S1 1HA\, United Kingdom
END:VEVENT
BEGIN:VEVENT
DTSTART;TZID=Europe/London:20171219T190000
DTEND;TZID=Europe/London:20171219T210000
DTSTAMP:20260423T101642
CREATED:20171027T144139Z
LAST-MODIFIED:20171027T144139Z
UID:291-1513710000-1513717200@www.ellataylorsoprano.co.uk
SUMMARY:A Christmas Evening with Lesley Garrett
DESCRIPTION:Performing a selection of Christmas classics as part of Lost Chord’s Charity Christmas Concert.
URL:https://www.ellataylorsoprano.co.uk/event/a-christmas-evening-with-lesley-garrett/
LOCATION:Doncaster Minster\, Doncaster\, DN1 1RD\, United Kingdom
END:VEVENT
BEGIN:VEVENT
DTSTART;TZID=Europe/London:20171121T190000
DTEND;TZID=Europe/London:20171121T200000
DTSTAMP:20260423T101642
CREATED:20170818T134714Z
LAST-MODIFIED:20170818T134714Z
UID:264-1511290800-1511294400@www.ellataylorsoprano.co.uk
SUMMARY:Schönberg - Pierrot Lunaire
DESCRIPTION:Performing with other musicians from the Royal Academy of Music in the David Josefowitz Recital Hall.
URL:https://www.ellataylorsoprano.co.uk/event/schonberg-pierrot-lunaire/
LOCATION:Royal Academy of Music\, Marylebone Rd\, Marylebone\, London\, NW1 5HT\, United Kingdom
END:VEVENT
BEGIN:VEVENT
DTSTART;TZID=Europe/London:20171119T183000
DTEND;TZID=Europe/London:20171119T203000
DTSTAMP:20260423T101642
CREATED:20171005T133320Z
LAST-MODIFIED:20171027T144718Z
UID:280-1511116200-1511123400@www.ellataylorsoprano.co.uk
SUMMARY:Bach - Cantatas 8 and 78
DESCRIPTION:Performing as a quartet with Belsize Baroque.
URL:https://www.ellataylorsoprano.co.uk/event/bach-cantatas-8-and-78/
LOCATION:St Peter’s Church\, Belsize Square\, London\, NW3 4HJ\, United Kingdom
END:VEVENT
BEGIN:VEVENT
DTSTART;TZID=Europe/London:20171118T193000
DTEND;TZID=Europe/London:20171118T213000
DTSTAMP:20260423T101642
CREATED:20171027T143845Z
LAST-MODIFIED:20171027T143845Z
UID:287-1511033400-1511040600@www.ellataylorsoprano.co.uk
SUMMARY:Charpentier - Te Deum + others
DESCRIPTION:Performing as a soloist with The Camden Choir. Other pieces in the programme include Pergolesi – Magnificat and Handel – Ode for the Birthday of Queen Anne.
URL:https://www.ellataylorsoprano.co.uk/event/charpentier-te-deum-others/
LOCATION:St Mary the Virgin\, Primrose Hill\, King Henry's Road\, London\, NW3 3DJ\, United Kingdom
END:VEVENT
BEGIN:VEVENT
DTSTART;TZID=Europe/London:20171021T193000
DTEND;TZID=Europe/London:20171021T213000
DTSTAMP:20260423T101642
CREATED:20170407T205423Z
LAST-MODIFIED:20170407T205542Z
UID:211-1508614200-1508621400@www.ellataylorsoprano.co.uk
SUMMARY:Michael Haydn - Requiem in C Minor + others
DESCRIPTION:Soprano soloist with Arundel Choral Society performing Vivaldi – Gloria\, and Magnificat\, and Michael Haydn – Requiem in C Minor.
URL:https://www.ellataylorsoprano.co.uk/event/michael-haydn-requiem-in-c-minor/
LOCATION:Arundel Cathedral\, London Rd\, Arundel\, BN18 9AY
END:VEVENT
BEGIN:VEVENT
DTSTART;TZID=Europe/London:20171010T170000
DTEND;TZID=Europe/London:20171010T180000
DTSTAMP:20260423T101642
CREATED:20171005T133742Z
LAST-MODIFIED:20171005T133742Z
UID:284-1507654800-1507658400@www.ellataylorsoprano.co.uk
SUMMARY:Accompanists at 5
DESCRIPTION:Performing a selection of contemporary English song repertoire with pianist\, Adam Cigman-Mark in room 150 at the Royal Academy of Music. \nProgramme:\nIreland – If we must part \nSorabji  – I was not sorrowful \nMaconchy – 4 Shakespeare settings
URL:https://www.ellataylorsoprano.co.uk/event/accompanists-at-5/
LOCATION:Royal Academy of Music\, Marylebone Rd\, Marylebone\, London\, NW1 5HT\, United Kingdom
END:VEVENT
BEGIN:VEVENT
DTSTART;TZID=Europe/London:20170929T190000
DTEND;TZID=Europe/London:20170929T210000
DTSTAMP:20260423T101642
CREATED:20170924T151516Z
LAST-MODIFIED:20170924T151516Z
UID:277-1506711600-1506718800@www.ellataylorsoprano.co.uk
SUMMARY:Battles
DESCRIPTION:Concert with students from the Royal Academy of Music performing an excerpt from The Judgement of Paris – John Eccles. Venue – Duke’s Hall.
URL:https://www.ellataylorsoprano.co.uk/event/battles/
LOCATION:Royal Academy of Music\, Marylebone Rd\, Marylebone\, London\, NW1 5HT\, United Kingdom
END:VEVENT
BEGIN:VEVENT
DTSTART;TZID=Europe/London:20170812T200000
DTEND;TZID=Europe/London:20170812T203000
DTSTAMP:20260423T101642
CREATED:20170629T102657Z
LAST-MODIFIED:20170629T102657Z
UID:255-1502568000-1502569800@www.ellataylorsoprano.co.uk
SUMMARY:Schutzwall
DESCRIPTION:Performing the role of Susanne Meyer in Jonathan Higgins’ Schutzwall in the Tête à Tête festival.
URL:https://www.ellataylorsoprano.co.uk/event/schutzwall-2/
LOCATION:RADA Studios Theatre\, 16 Chenies Street\, London\, WC1E 7EX\, United Kingdom
END:VEVENT
BEGIN:VEVENT
DTSTART;TZID=Europe/London:20170729T200000
DTEND;TZID=Europe/London:20170729T220000
DTSTAMP:20260423T101642
CREATED:20170629T102233Z
LAST-MODIFIED:20170629T102233Z
UID:253-1501358400-1501365600@www.ellataylorsoprano.co.uk
SUMMARY:The World Flew By
DESCRIPTION:A performance of Marco Galvani’s song cycle ‘The World Flew By’\, with text by Leo Mercer.
URL:https://www.ellataylorsoprano.co.uk/event/the-world-flew-by/
LOCATION:International Anthony Burgess Foundation\, Engine House\, Chorlton Mill\, 3 Cambridge Street\, Manchester\, M1 5BY\, United Kingdom
END:VEVENT
BEGIN:VEVENT
DTSTART;TZID=Europe/London:20170729T200000
DTEND;TZID=Europe/London:20170729T220000
DTSTAMP:20260423T101642
CREATED:20170629T102035Z
LAST-MODIFIED:20170629T102035Z
UID:249-1501358400-1501365600@www.ellataylorsoprano.co.uk
SUMMARY:Schutzwall
DESCRIPTION:Playing the role of Susanne Meyer in Jonathan Higgins’ Schutzwall in the Manchester Opera Project festival.
URL:https://www.ellataylorsoprano.co.uk/event/schutzwall/
LOCATION:International Anthony Burgess Foundation\, Engine House\, Chorlton Mill\, 3 Cambridge Street\, Manchester\, M1 5BY\, United Kingdom
END:VEVENT
BEGIN:VEVENT
DTSTART;TZID=Europe/London:20170723T193000
DTEND;TZID=Europe/London:20170723T220000
DTSTAMP:20260423T101642
CREATED:20170413T121705Z
LAST-MODIFIED:20170413T121705Z
UID:230-1500838200-1500847200@www.ellataylorsoprano.co.uk
SUMMARY:Marriage of Figaro - Mozart
DESCRIPTION:Playing the role of the Countess with the Central London Chamber Orchestra.
URL:https://www.ellataylorsoprano.co.uk/event/marriage-of-figaro-mozart/
LOCATION:Longhope\, Hullam Lane\, Newton Valence\, Alton\, GU34 3RB\, United Kingdom
END:VEVENT
BEGIN:VEVENT
DTSTART;TZID=Europe/London:20170622T193000
DTEND;TZID=Europe/London:20170622T220000
DTSTAMP:20260423T101642
CREATED:20170305T213046Z
LAST-MODIFIED:20170305T213046Z
UID:189-1498159800-1498168800@www.ellataylorsoprano.co.uk
SUMMARY:Mahler - Symphony no. 2 ('Resurrection')
DESCRIPTION:With Semyon Bychkov\, Royal Academy Opera\, RAM Vocal Faculty and RAM Symphony Orchestra.
URL:https://www.ellataylorsoprano.co.uk/event/mahler-symphony-no-2-resurrection/
LOCATION:Royal Festival Hall\, Southbank Centre\, Belvedere Rd\, Lambeth\, London\, SE1 8XX\, United Kingdom
END:VEVENT
BEGIN:VEVENT
DTSTART;TZID=Europe/London:20170610T193000
DTEND;TZID=Europe/London:20170610T213000
DTSTAMP:20260423T101642
CREATED:20170318T213709Z
LAST-MODIFIED:20170318T213709Z
UID:204-1497123000-1497130200@www.ellataylorsoprano.co.uk
SUMMARY:Haydn - Harmoniemesse + others
DESCRIPTION:Soprano soloist with Ware Choral Society performing the Harmoniemesse\, Mozart – Litanaiae de venerabili altaris K243 and Beethoven – Choral Fantasia.
URL:https://www.ellataylorsoprano.co.uk/event/haydn-harmoniemesse-others/
LOCATION:The Drill Hall\, 17 Amwell End\, Ware\, Hertfordshire\, SG12 9HP\, United Kingdom
END:VEVENT
BEGIN:VEVENT
DTSTART;TZID=Europe/London:20170516T193000
DTEND;TZID=Europe/London:20170516T210000
DTSTAMP:20260423T101642
CREATED:20170419T151656Z
LAST-MODIFIED:20170419T151656Z
UID:235-1494963000-1494968400@www.ellataylorsoprano.co.uk
SUMMARY:Royal Academy of Music Songbook Project
DESCRIPTION:Performing 3 new works by composition students at the Royal Academy of Music in the David Josefowitz Recital Hall.
URL:https://www.ellataylorsoprano.co.uk/event/royal-academy-of-music-songbook-project/
LOCATION:Royal Academy of Music\, Marylebone Rd\, Marylebone\, London\, NW1 5HT\, United Kingdom
END:VEVENT
BEGIN:VEVENT
DTSTART;TZID=Europe/London:20170512T180000
DTEND;TZID=Europe/London:20170512T203000
DTSTAMP:20260423T101642
CREATED:20170311T231647Z
LAST-MODIFIED:20170311T231647Z
UID:199-1494612000-1494621000@www.ellataylorsoprano.co.uk
SUMMARY:Royal Academy Vocal Faculty Scenes
DESCRIPTION:Playing the role of the Governess in The Turn of the Screw
URL:https://www.ellataylorsoprano.co.uk/event/royal-academy-vocal-faculty-scenes-2/
LOCATION:Rudolph Steiner Theatre\, 35 Park Rd\, Marylebone\, London\, NW1\, United Kingdom
END:VEVENT
BEGIN:VEVENT
DTSTART;TZID=Europe/London:20170511T180000
DTEND;TZID=Europe/London:20170511T203000
DTSTAMP:20260423T101642
CREATED:20170311T231553Z
LAST-MODIFIED:20170311T231553Z
UID:197-1494525600-1494534600@www.ellataylorsoprano.co.uk
SUMMARY:Royal Academy Vocal Faculty Scenes
DESCRIPTION:Playing the role of the Governess in The Turn of the Screw.
URL:https://www.ellataylorsoprano.co.uk/event/royal-academy-vocal-faculty-scenes/
LOCATION:Rudolph Steiner Theatre\, 35 Park Rd\, Marylebone\, London\, NW1\, United Kingdom
END:VEVENT
BEGIN:VEVENT
DTSTART;TZID=Europe/London:20170507T190000
DTEND;TZID=Europe/London:20170507T210000
DTSTAMP:20260423T101642
CREATED:20170305T210505Z
LAST-MODIFIED:20170305T210505Z
UID:174-1494183600-1494190800@www.ellataylorsoprano.co.uk
SUMMARY:Tavener - Akhmatova Songs
DESCRIPTION:Performing with members Ensemble 360 as part of Music in the Round’s May Festival.
URL:https://www.ellataylorsoprano.co.uk/event/tavener-akhmatova-songs/
LOCATION:Sheffield Cathedral\, Church Street\, Sheffield\, S1 1HA\, United Kingdom
END:VEVENT
BEGIN:VEVENT
DTSTART;TZID=Europe/London:20170424T193000
DTEND;TZID=Europe/London:20170424T210000
DTSTAMP:20260423T101642
CREATED:20170305T204802Z
LAST-MODIFIED:20170305T204802Z
UID:171-1493062200-1493067600@www.ellataylorsoprano.co.uk
SUMMARY:Handel - Acis and Galatea
DESCRIPTION:Performing the lead role of Galatea with the Royal Academy of Music in the Duke’s Hall at the Academy.
URL:https://www.ellataylorsoprano.co.uk/event/handel-acis-and-galatea-2/
LOCATION:Royal Academy of Music\, Marylebone Rd\, Marylebone\, London\, NW1 5HT\, United Kingdom
END:VEVENT
BEGIN:VEVENT
DTSTART;TZID=Europe/London:20170422T190000
DTEND;TZID=Europe/London:20170422T210000
DTSTAMP:20260423T101642
CREATED:20170305T204427Z
LAST-MODIFIED:20170413T121812Z
UID:168-1492887600-1492894800@www.ellataylorsoprano.co.uk
SUMMARY:Handel - Acis and Galatea
DESCRIPTION:Singing in the chorus with the Royal Academy of Music at Raynham Hall in Norfolk.
URL:https://www.ellataylorsoprano.co.uk/event/handel-acis-and-galatea/
LOCATION:Raynham Hall\, East Raynham\, Fakenham\, NR21 7EP\, United Kingdom
END:VEVENT
BEGIN:VEVENT
DTSTART;TZID=Europe/London:20170416T103000
DTEND;TZID=Europe/London:20170416T120000
DTSTAMP:20260423T101642
CREATED:20170318T213124Z
LAST-MODIFIED:20170318T213731Z
UID:202-1492338600-1492344000@www.ellataylorsoprano.co.uk
SUMMARY:Haydn - Missa Sancti Nicolai
DESCRIPTION:Singing the soprano solos with Sheffield Cathedral Choir on Easter Sunday.
URL:https://www.ellataylorsoprano.co.uk/event/haydn-missa-sancti-nicolai/
LOCATION:Sheffield Cathedral\, Church Street\, Sheffield\, S1 1HA\, United Kingdom
END:VEVENT
BEGIN:VEVENT
DTSTART;TZID=Europe/London:20170325T193000
DTEND;TZID=Europe/London:20170325T213000
DTSTAMP:20260423T101642
CREATED:20170305T202902Z
LAST-MODIFIED:20170305T202902Z
UID:165-1490470200-1490477400@www.ellataylorsoprano.co.uk
SUMMARY:Rutter - Requiem
DESCRIPTION:Singing the soprano solos with Bakewell Choral Society and the South Yorkshire Symphony Orchestra.
URL:https://www.ellataylorsoprano.co.uk/event/rutter-requiem/
LOCATION:Matlock Methodist Church\, Matlock\, DE4 3FJ\, United Kingdom
END:VEVENT
BEGIN:VEVENT
DTSTART;TZID=Europe/London:20170307T193000
DTEND;TZID=Europe/London:20170307T210000
DTSTAMP:20260423T101642
CREATED:20170305T202409Z
LAST-MODIFIED:20170305T202409Z
UID:162-1488915000-1488920400@www.ellataylorsoprano.co.uk
SUMMARY:Rough for Opera #15
DESCRIPTION:Playing the role of Susanne in Jonathan Higgins’ Schutzwall.
URL:https://www.ellataylorsoprano.co.uk/event/rough-for-opera-15/
LOCATION:The Cockpit Theatre\, Gateforth Street\, Marylebone\, London\, NW8 8EH\, United Kingdom
END:VEVENT
END:VCALENDAR