BEGIN:VCALENDAR
VERSION:2.0
PRODID:-//Ella Taylor - ECPv6.15.20//NONSGML v1.0//EN
CALSCALE:GREGORIAN
METHOD:PUBLISH
X-WR-CALNAME:Ella Taylor
X-ORIGINAL-URL:https://www.ellataylorsoprano.co.uk
X-WR-CALDESC:Events for Ella Taylor
REFRESH-INTERVAL;VALUE=DURATION:PT1H
X-Robots-Tag:noindex
X-PUBLISHED-TTL:PT1H
BEGIN:VTIMEZONE
TZID:Europe/London
BEGIN:DAYLIGHT
TZOFFSETFROM:+0000
TZOFFSETTO:+0100
TZNAME:BST
DTSTART:20180325T010000
END:DAYLIGHT
BEGIN:STANDARD
TZOFFSETFROM:+0100
TZOFFSETTO:+0000
TZNAME:GMT
DTSTART:20181028T010000
END:STANDARD
BEGIN:DAYLIGHT
TZOFFSETFROM:+0000
TZOFFSETTO:+0100
TZNAME:BST
DTSTART:20190331T010000
END:DAYLIGHT
BEGIN:STANDARD
TZOFFSETFROM:+0100
TZOFFSETTO:+0000
TZNAME:GMT
DTSTART:20191027T010000
END:STANDARD
BEGIN:DAYLIGHT
TZOFFSETFROM:+0000
TZOFFSETTO:+0100
TZNAME:BST
DTSTART:20200329T010000
END:DAYLIGHT
BEGIN:STANDARD
TZOFFSETFROM:+0100
TZOFFSETTO:+0000
TZNAME:GMT
DTSTART:20201025T010000
END:STANDARD
BEGIN:DAYLIGHT
TZOFFSETFROM:+0000
TZOFFSETTO:+0100
TZNAME:BST
DTSTART:20210328T010000
END:DAYLIGHT
BEGIN:STANDARD
TZOFFSETFROM:+0100
TZOFFSETTO:+0000
TZNAME:GMT
DTSTART:20211031T010000
END:STANDARD
BEGIN:DAYLIGHT
TZOFFSETFROM:+0000
TZOFFSETTO:+0100
TZNAME:BST
DTSTART:20220327T010000
END:DAYLIGHT
BEGIN:STANDARD
TZOFFSETFROM:+0100
TZOFFSETTO:+0000
TZNAME:GMT
DTSTART:20221030T010000
END:STANDARD
BEGIN:DAYLIGHT
TZOFFSETFROM:+0000
TZOFFSETTO:+0100
TZNAME:BST
DTSTART:20230326T010000
END:DAYLIGHT
BEGIN:STANDARD
TZOFFSETFROM:+0100
TZOFFSETTO:+0000
TZNAME:GMT
DTSTART:20231029T010000
END:STANDARD
END:VTIMEZONE
BEGIN:VEVENT
DTSTART;TZID=Europe/London:20221220T191500
DTEND;TZID=Europe/London:20221220T220000
DTSTAMP:20260422T235330
CREATED:20221101T145340Z
LAST-MODIFIED:20221101T145340Z
UID:992-1671563700-1671573600@www.ellataylorsoprano.co.uk
SUMMARY:Messiah with Huddersfield Choral Society
DESCRIPTION:Ella sings the soprano solos in Handel’s Messiah with Huddersfield Choral Society and the Orchestra of Opera North conducted by Ellie Slorach.
URL:https://www.ellataylorsoprano.co.uk/event/messiah-with-huddersfield-choral-society/
LOCATION:Huddersfield Town Hall\, Ramsden Street\, Huddersfield\, HD1 2TA\, United Kingdom
END:VEVENT
BEGIN:VEVENT
DTSTART;TZID=Europe/London:20221214T190000
DTEND;TZID=Europe/London:20221214T220000
DTSTAMP:20260422T235330
CREATED:20221101T144441Z
LAST-MODIFIED:20221101T144531Z
UID:989-1671044400-1671055200@www.ellataylorsoprano.co.uk
SUMMARY:Messiah at the Royal Albert Hall
DESCRIPTION:Ella sings the soprano solos in Handel’s Messiah at the Royal Albert Hall with the Philharmonia Chorus and Royal Philharmonic Orchestra conducted by Eduardo Strausser. \nElla Taylor – soprano\nAngharad Lyddon – mezzo-soprano\nZwakele Tshabalala – tenor\nWilliam Thomas – bass
URL:https://www.ellataylorsoprano.co.uk/event/messiah-at-the-royal-albert-hall-2/
LOCATION:Royal Albert Hall\, Kensington Gore\, London\, SW7 2AP\, United Kingdom
END:VEVENT
BEGIN:VEVENT
DTSTART;TZID=Europe/London:20221214T140000
DTEND;TZID=Europe/London:20221214T170000
DTSTAMP:20260422T235330
CREATED:20221101T144229Z
LAST-MODIFIED:20221101T144504Z
UID:985-1671026400-1671037200@www.ellataylorsoprano.co.uk
SUMMARY:Messiah at the Royal Albert Hall
DESCRIPTION:Ella sings the soprano solos in Handel’s Messiah at the Royal Albert Hall with the Philharmonia Chorus and Royal Philharmonic Orchestra conducted by Eduardo Strausser. \nElla Taylor – soprano\nAngharad Lyddon – mezzo-soprano\nZwakele Tshabalala – tenor\nWilliam Thomas – bass
URL:https://www.ellataylorsoprano.co.uk/event/messiah-at-the-royal-albert-hall/
LOCATION:Royal Albert Hall\, Kensington Gore\, London\, SW7 2AP\, United Kingdom
END:VEVENT
BEGIN:VEVENT
DTSTART;TZID=Europe/London:20221119T193000
DTEND;TZID=Europe/London:20221119T220000
DTSTAMP:20260422T235330
CREATED:20221101T150513Z
LAST-MODIFIED:20221101T150513Z
UID:998-1668886200-1668895200@www.ellataylorsoprano.co.uk
SUMMARY:The Armed Man and Mass in Time of War
DESCRIPTION:Ella performs the soprano solos in Jenkins’ The Armed Man and Haydn’s Missa in tempora belli with York Musical Society Choir and Orchestra conducted by David Pipe \nElla Taylor – soprano\nChloe Latchmore – mezzo-soprano\nGreg Tassell – tenor\nThomas Humphreys – baritone
URL:https://www.ellataylorsoprano.co.uk/event/the-armed-man-and-mass-in-time-of-war/
LOCATION:York Minster\, Minster Yard Deangate\, York\, YO1 7HH\, United Kingdom
END:VEVENT
BEGIN:VEVENT
DTSTART;VALUE=DATE:20221014
DTEND;VALUE=DATE:20221106
DTSTAMP:20260422T235330
CREATED:20220815T122633Z
LAST-MODIFIED:20220907T134454Z
UID:977-1665705600-1667692799@www.ellataylorsoprano.co.uk
SUMMARY:Dido and Aeneas
DESCRIPTION:Ella plays the roles of Belinda and Second Witch in Purcell’s Dido and Aeneas\, as part of Deborah Warner’s inaugural season as Artistic Director at the Ustinov Studio in Bath. \nCast to be announced. \n  \nMonday – Saturday 7.30pm\nMatinees Thursday & Saturday 2.30pm (not Sat 15 or Thurs 20 Oct)\nPress Night Thursday 20 October 7pm \nTickets £36.50 / £24.50 discounts \nA booking fee of £2.50 per ticket applies
URL:https://www.ellataylorsoprano.co.uk/event/dido-and-aeneas/
LOCATION:Ustinov Studio\, Theatre Royal Bath\, Sawclose\, Bath\, BA1 1ET\, United Kingdom
END:VEVENT
BEGIN:VEVENT
DTSTART;VALUE=DATE:20220830
DTEND;VALUE=DATE:20220905
DTSTAMP:20260422T235330
CREATED:20220815T122105Z
LAST-MODIFIED:20220815T122105Z
UID:973-1661817600-1662335999@www.ellataylorsoprano.co.uk
SUMMARY:Paradise Lost
DESCRIPTION:Ella sings the role of Satan in Bertie Baigent and Joseph Winters’ new adaptation of Milton’s epic\, Paradise Lost. \nElla Taylor – Satan\nJuliet Wallace – Eve\nOskar McCarthy – Adam/Moloch\nRozanna Madylus – Belial/Raphael\nStephen Fort – Beelzebub/Gabriel \nBertie Baigent – Conductor/Composer\nJoseph Winters – Director/Librettist \nEach performance begins at 20.30\, with doors open from 18.00. The dates are: 30th\, 31st August\, 1st\, 2nd\, 3rd and 4th September.\nThere is an interval.
URL:https://www.ellataylorsoprano.co.uk/event/paradise-lost/
LOCATION:Shipwright\, The Master Shipwright's House\, Watergate Street\, London\, SE8 3JF
END:VEVENT
BEGIN:VEVENT
DTSTART;TZID=Europe/London:20220815T193000
DTEND;TZID=Europe/London:20220815T210000
DTSTAMP:20260422T235330
CREATED:20220815T121446Z
LAST-MODIFIED:20220815T121446Z
UID:969-1660591800-1660597200@www.ellataylorsoprano.co.uk
SUMMARY:Górecki Symphony of Sorrowful Songs
DESCRIPTION:Ella performs the soprano solo in Górecki’s powerful orchestral song cycle Symphony of Sorrowful Songs with the Philharmonia Orchestra at the brilliant Bold Tendencies in Peckham
URL:https://www.ellataylorsoprano.co.uk/event/gorecki-symphony-of-sorrowful-songs-2/
LOCATION:Bold Tendencies\, 95a Rye Lane\, Levels 7 - 10\, London\, SE15 4ST
END:VEVENT
BEGIN:VEVENT
DTSTART;TZID=Europe/London:20220206T194500
DTEND;TZID=Europe/London:20220206T220000
DTSTAMP:20260422T235330
CREATED:20220119T134017Z
LAST-MODIFIED:20220119T134017Z
UID:958-1644176700-1644184800@www.ellataylorsoprano.co.uk
SUMMARY:Tell me when you get home
DESCRIPTION:Ella sings the world premiere of Alicia Jane Turner‘s piece Tell me when you get home with the London Sinfonietta. \n‘Alicia Jane Turner’s Tell me when you get home is a theatrical and sensory piece for solo soprano and ensemble that explores gendered experiences of walking alone at night. The immersive staging\, influenced by Turner’s background in sound and lighting design\, incorporates elements of patriarchal representations of femininity in mythology and horror to take us on a subversive journey into our fear of the dark.’ \nLuke Lewis  The Echoes Return Slow (London Sinfonietta commission\, world premiere)\nAlicia Jane Turner  Tell me when you get home (London Sinfonietta commission\, world premiere) \nElla Taylor  soprano\nSian Edwards  conductor\nLondon Sinfonietta
URL:https://www.ellataylorsoprano.co.uk/event/tell-me-when-you-get-home/
LOCATION:Purcell Room – Southbank Centre\, Belvedere Rd\, London\, SE1 8XX\, United Kingdom
END:VEVENT
BEGIN:VEVENT
DTSTART;TZID=Europe/London:20211124T193000
DTEND;TZID=Europe/London:20211124T213000
DTSTAMP:20260422T235330
CREATED:20210906T101516Z
LAST-MODIFIED:20210906T101516Z
UID:943-1637782200-1637789400@www.ellataylorsoprano.co.uk
SUMMARY:The Cunning Little Vixen with the CBSO (On Tour)
DESCRIPTION:Ella performs with the CBSO at the Théâtre des Champs-Elysées. \n\nMirga Gražinytė‐Tyla – Conductor\nElena Tsallagova – Vixen Sharp Ears\nRoland Wood – The Forester\nAngela Brower – The Fox\nRobert Murray – Schoolmaster / Mosquito / Pásek\nKitty Whately – Dog / Forester’s Wife / Woodpecker / Owl\nElizabeth Cragg – Chief Hen / Jay\nWilliam Thomas – Badger / Priest / Harašta\nElla Taylor – Mrs Pesak / Cock\nChœur de Radio France (direction Irène Kudela)
URL:https://www.ellataylorsoprano.co.uk/event/the-cunning-little-vixen-with-the-cbso-on-tour-3/
LOCATION:Théâtre des Champs-Elysées\, 15 Av. Montaigne\, Paris\, 75008\, France
END:VEVENT
BEGIN:VEVENT
DTSTART;TZID=Europe/London:20211123T200000
DTEND;TZID=Europe/London:20211123T220000
DTSTAMP:20260422T235330
CREATED:20210906T100941Z
LAST-MODIFIED:20210906T100941Z
UID:940-1637697600-1637704800@www.ellataylorsoprano.co.uk
SUMMARY:The Cunning Little Vixen with the CBSO (On Tour)
DESCRIPTION:Ella performs with the CBSO at the Elbphilharmonie\, Hamburg. \n\nMirga Gražinytė‐Tyla – Conductor\nElena Tsallagova – Sharp-Ears\, the Vixen\nAngela Brower – Fox\nRoland Wood – Baritone\nWilliam Thomas – The Priest\, Harašta\, the poacher\nRobert Murray – The Schoolmaster\, Pásek\nKitty Whately – Lapák the dog\, The Forester’s wife\nElla Taylor – Rooster\, Mrs. Páskova\nElizabeth Cragg – Chocholka\, a crested hen\nCarl Philipp Emanuel Bach Choir Hamburg
URL:https://www.ellataylorsoprano.co.uk/event/the-cunning-little-vixen-with-the-cbso-on-tour-2/
LOCATION:Elbphilharmonie Hamburg\, Platz der Deutschen Einheit 4\, Hamburg\, 20457\, Germany
END:VEVENT
BEGIN:VEVENT
DTSTART;TZID=Europe/London:20211121T180000
DTEND;TZID=Europe/London:20211121T180000
DTSTAMP:20260422T235330
CREATED:20210906T100340Z
LAST-MODIFIED:20210906T100345Z
UID:937-1637517600-1637517600@www.ellataylorsoprano.co.uk
SUMMARY:The Cunning Little Vixen with the CBSO (On Tour)
DESCRIPTION:Ella performs with the CBSO at the Konzerthaus\, Dortmund. \n\nMirga Gražinytė‐Tyla – Conductor\nElena Tsallagova – Sharp-Ears\, the Vixen\nAngela Brower – Fox\nRoland Wood – Forester\nWilliam Thomas – The Priest\, Harašta\, the poacher\nRobert Murray – The Schoolmaster\, Pásek\nKitty Whately – Lapák the dog\, The Forester’s wife\nElla Taylor – Rooster\, Mrs. Páskova\nElizabeth Cragg – Chocholka\, a crested hen\nYouth Choir of The Choir Academy Dortmund Concert Hall
URL:https://www.ellataylorsoprano.co.uk/event/the-cunning-little-vixen-with-the-cbso-on-tour/
LOCATION:Konzerthaus Dortmund\, Brückstraße 21\, Dortmund\, 44135\, Germany
END:VEVENT
BEGIN:VEVENT
DTSTART;TZID=Europe/London:20211116T190000
DTEND;TZID=Europe/London:20211116T210000
DTSTAMP:20260422T235330
CREATED:20210906T095512Z
LAST-MODIFIED:20210906T095512Z
UID:933-1637089200-1637096400@www.ellataylorsoprano.co.uk
SUMMARY:The Cunning Little Vixen with the CBSO
DESCRIPTION:Ella performs with the CBSO at Symphony Hall\, Birmingham \n\nMirga Gražinytė-Tyla – Conductor\nElena Tsallagova – Vixen Sharp Ears\nRoland Wood – The Forester\nAngela Brower – The Fox\nRobert Murray – Schoolmaster / Mosquito / Pásek\nKitty Whately – Dog / Forester’s Wife / Woodpecker / Owl\nElizabeth Cragg – Chief Hen / Jay\nWilliam Thomas – Badger / Priest / Harašta\nElla Taylor – Mrs Pesak / Cock\nCBSO Chorus
URL:https://www.ellataylorsoprano.co.uk/event/the-cunning-little-vixen-with-the-cbso/
LOCATION:Symphony Hall\, Broad Street\, Birmingham\, B1 2EA\, United Kingdom
END:VEVENT
BEGIN:VEVENT
DTSTART;VALUE=DATE:20210924
DTEND;VALUE=DATE:20210925
DTSTAMP:20260422T235330
CREATED:20210519T161450Z
LAST-MODIFIED:20210519T161450Z
UID:919-1632441600-1632527999@www.ellataylorsoprano.co.uk
SUMMARY:Paris and Helen with Bampton Classical Opera
DESCRIPTION:This performance is at St John’s Smith Square. \nParide ed Elena\, a music drama in five acts\nLibretto by Raniero de’Calzabigi\, English translation by Gilly French\nFirst performance\, 3 November 1770\, Burgtheater\, Vienna \n\n\n\nParis\nElla Taylor\n\n\nHelen\nLucy Anderson\n\n\nAmor\nLauren Lodge-Campbell\n\n\nPallas Athene\nLisa Howarth\n\n\nConductor\nThomas Blunt\n\n\nDirector\nJeremy Gray
URL:https://www.ellataylorsoprano.co.uk/event/paris-and-helen-with-bampton-classical-opera-4/
LOCATION:St John’s Smith Square\, St John's Smith Square\, London\, SW1P 3HA\, United Kingdom
END:VEVENT
BEGIN:VEVENT
DTSTART;VALUE=DATE:20210920
DTEND;VALUE=DATE:20210921
DTSTAMP:20260422T235330
CREATED:20210519T161544Z
LAST-MODIFIED:20210519T161544Z
UID:922-1632096000-1632182399@www.ellataylorsoprano.co.uk
SUMMARY:Royal Overseas League Vocal Semi-Final
DESCRIPTION:Ella has been selected as a finalist for the Royal Overseas League Vocal Semi-Final.
URL:https://www.ellataylorsoprano.co.uk/event/royal-overseas-league-vocal-semi-final/
END:VEVENT
BEGIN:VEVENT
DTSTART;VALUE=DATE:20210830
DTEND;VALUE=DATE:20210831
DTSTAMP:20260422T235330
CREATED:20210519T161025Z
LAST-MODIFIED:20210519T161025Z
UID:917-1630281600-1630367999@www.ellataylorsoprano.co.uk
SUMMARY:Paris and Helen with Bampton Classical Opera
DESCRIPTION:This performance is at Westonbirt. \nParide ed Elena\, a music drama in five acts\nLibretto by Raniero de’Calzabigi\, English translation by Gilly French\nFirst performance\, 3 November 1770\, Burgtheater\, Vienna \n\n\n\nParis\nElla Taylor\n\n\nHelen\nLucy Anderson\n\n\nAmor\nLauren Lodge-Campbell\n\n\nPallas Athene\nLisa Howarth\n\n\nConductor\nThomas Blunt\n\n\nDirector\nJeremy Gray
URL:https://www.ellataylorsoprano.co.uk/event/paris-and-helen-with-bampton-classical-opera-3/
END:VEVENT
BEGIN:VEVENT
DTSTART;VALUE=DATE:20210724
DTEND;VALUE=DATE:20210725
DTSTAMP:20260422T235330
CREATED:20210519T160929Z
LAST-MODIFIED:20210519T160929Z
UID:915-1627084800-1627171199@www.ellataylorsoprano.co.uk
SUMMARY:Paris and Helen with Bampton Classical Opera
DESCRIPTION:Paride ed Elena\, a music drama in five acts\nLibretto by Raniero de’Calzabigi\, English translation by Gilly French\nFirst performance\, 3 November 1770\, Burgtheater\, Vienna \n\n\n\nParis\nElla Taylor\n\n\nHelen\nLucy Anderson\n\n\nAmor\nLauren Lodge-Campbell\n\n\nPallas Athene\nLisa Howarth\n\n\nConductor\nThomas Blunt\n\n\nDirector\nJeremy Gray
URL:https://www.ellataylorsoprano.co.uk/event/paris-and-helen-with-bampton-classical-opera-2/
END:VEVENT
BEGIN:VEVENT
DTSTART;VALUE=DATE:20210723
DTEND;VALUE=DATE:20210724
DTSTAMP:20260422T235330
CREATED:20210519T160859Z
LAST-MODIFIED:20210519T160859Z
UID:912-1626998400-1627084799@www.ellataylorsoprano.co.uk
SUMMARY:Paris and Helen with Bampton Classical Opera
DESCRIPTION:Paride ed Elena\, a music drama in five acts\nLibretto by Raniero de’Calzabigi\, English translation by Gilly French\nFirst performance\, 3 November 1770\, Burgtheater\, Vienna \n\n\n\nParis\nElla Taylor\n\n\nHelen\nLucy Anderson\n\n\nAmor\nLauren Lodge-Campbell\n\n\nPallas Athene\nLisa Howarth\n\n\nConductor\nThomas Blunt\n\n\nDirector\nJeremy Gray
URL:https://www.ellataylorsoprano.co.uk/event/paris-and-helen-with-bampton-classical-opera/
END:VEVENT
BEGIN:VEVENT
DTSTART;TZID=Europe/London:20210529T150000
DTEND;TZID=Europe/London:20210529T161500
DTSTAMP:20260422T235330
CREATED:20210519T160505Z
LAST-MODIFIED:20210519T161633Z
UID:908-1622300400-1622304900@www.ellataylorsoprano.co.uk
SUMMARY:Schwanengesang with Roderick Williams at the Vinehall School
DESCRIPTION:Ella performs a selection of Franz Schubert songs with baritone Themba Mvula and Roderick Williams as part of the Momentum scheme. The pianists are Ella O’Neill and Ana Manastireanu. \nThere are performances at 3pm and 7.30pm
URL:https://www.ellataylorsoprano.co.uk/event/schwanengesang-with-roderick-williams-at-the-vinehall-school/
LOCATION:Vinehall School\, Vinehall School\, Robertsbridge\, East Sussex\, TN32 5JL\, United Kingdom
END:VEVENT
BEGIN:VEVENT
DTSTART;TZID=Europe/London:20200323T130000
DTEND;TZID=Europe/London:20200323T140000
DTSTAMP:20260422T235330
CREATED:20200214T124032Z
LAST-MODIFIED:20200214T124032Z
UID:548-1584968400-1584972000@www.ellataylorsoprano.co.uk
SUMMARY:English National Opera Recital: A Celebration of Mozart
DESCRIPTION:Join four of the 2019/20 Young Artists for a free lunchtime recital featuring arias and duets from some of Mozart’s best-loved operas. \nTickets are free but must be booked via the English National Opera website.
URL:https://www.ellataylorsoprano.co.uk/event/english-national-opera-recital-a-celebration-of-mozart/
LOCATION:English National Opera\, St Martin’s Lane\, London\, WC2N 4ES\, United Kingdom
END:VEVENT
BEGIN:VEVENT
DTSTART;TZID=Europe/London:20200321T193000
DTEND;TZID=Europe/London:20200321T220000
DTSTAMP:20260422T235330
CREATED:20200214T123549Z
LAST-MODIFIED:20200214T123549Z
UID:545-1584819000-1584828000@www.ellataylorsoprano.co.uk
SUMMARY:Mozart - Mass in C Minor
DESCRIPTION:Performing the soprano solos in Mozart’s great mass as well as in the Haydn Little Organ Mass with the Sheffield Oratorio Chorus and Skipton Camerata.
URL:https://www.ellataylorsoprano.co.uk/event/mozart-mass-in-c-minor/
LOCATION:Sheffield Cathedral\, Church Street\, Sheffield\, S1 1HA\, United Kingdom
END:VEVENT
BEGIN:VEVENT
DTSTART;TZID=Europe/London:20200201T160000
DTEND;TZID=Europe/London:20200201T180000
DTSTAMP:20260422T235330
CREATED:20200113T152649Z
LAST-MODIFIED:20200113T152649Z
UID:541-1580572800-1580580000@www.ellataylorsoprano.co.uk
SUMMARY:NOS @ WNO: Opera To Die For
DESCRIPTION:Ella will be performing scenes from Janáček’s The Cunning Little Vixen and Massenet’s Cendrillon. \nThe shadow of death permeates each scene\, either directly\, or through its ever-present threat.  The performance will include well-known scenes from Janacek’s Cunning Little Vixen\, Puccini’s La bohème\, Mozart’s Le nozze di Figaro as well as excerpts from such lesser-known operas as Gounod’s Sapho and Viktor Ullmann’s Der Kaiser von Atlantis. \nSian Edwards conductor \nEmma Jenkins director
URL:https://www.ellataylorsoprano.co.uk/event/nos-wno-opera-to-die-for/
LOCATION:Wales Millenium Centre\, Bute Place\, Cardiff\, CF10 5AL\, United Kingdom
END:VEVENT
BEGIN:VEVENT
DTSTART;TZID=Europe/London:20191204T130000
DTEND;TZID=Europe/London:20191204T140000
DTSTAMP:20260422T235330
CREATED:20191021T124326Z
LAST-MODIFIED:20191021T124326Z
UID:520-1575464400-1575468000@www.ellataylorsoprano.co.uk
SUMMARY:Wandsworth Wednesday: Free Lunchtime Recital
DESCRIPTION:A concert of songs and arias\, featuring: \nElla Taylor soprano \nBradley Wood répétiteur \nFrederick Jones tenor \nJuliane Gallant répétiteur \nThe concert will start at 1.15pm\, with doors opening at 1.00pm\, and will last approximately 45 minutes.
URL:https://www.ellataylorsoprano.co.uk/event/wandsworth-wednesday-free-lunchtime-recital/
LOCATION:National Opera Studio\, 2 Chapel Yard\, London\, SW18 4HZ\, United Kingdom
END:VEVENT
BEGIN:VEVENT
DTSTART;TZID=Europe/London:20191126T193000
DTEND;TZID=Europe/London:20191126T213000
DTSTAMP:20260422T235330
CREATED:20191021T123904Z
LAST-MODIFIED:20191021T123904Z
UID:517-1574796600-1574803800@www.ellataylorsoprano.co.uk
SUMMARY:The Fatal Gaze: The London Showing
DESCRIPTION:The Young Artists of the National Opera Studio perform The Fatal Gaze\, devised by Tim Albery and Nicholas Kok\, directed by Tim Albery\, and conducted by Nicholas Kok. \nMembers of the Orchestra of Opera North and the next generation of operatic stars bring this repertoire to new life in this special one-off performance in the beautiful setting of Salts Mill. \nElla will perform scenes from:\nCendrillon – Pauline Viardot\nCombattimento di Tancredi e Clorinda – Monteverdi
URL:https://www.ellataylorsoprano.co.uk/event/the-fatal-gaze-the-london-showing/
LOCATION:Conway Hall\, Red Lion Square\, London\, WC1R 4RL\, United Kingdom
END:VEVENT
BEGIN:VEVENT
DTSTART;TZID=Europe/London:20191123T193000
DTEND;TZID=Europe/London:20191123T213000
DTSTAMP:20260422T235330
CREATED:20191021T123633Z
LAST-MODIFIED:20191021T123633Z
UID:514-1574537400-1574544600@www.ellataylorsoprano.co.uk
SUMMARY:The Fatal Gaze (Opera North)
DESCRIPTION:The Young Artists of the National Opera Studio perform The Fatal Gaze\, devised by Tim Albery and Nicholas Kok\, directed by Tim Albery\, and conducted by Nicholas Kok. \nMembers of the Orchestra of Opera North and the next generation of operatic stars bring this repertoire to new life in this special one-off performance in the beautiful setting of Salts Mill. \nElla will perform scenes from:\nCendrillon – Pauline Viardot\nCombattimento di Tancredi e Clorinda – Monteverdi
URL:https://www.ellataylorsoprano.co.uk/event/the-fatal-gaze-opera-north/
LOCATION:Salt Mills\, Victoria Road\, Shipley\, Saltaire\, BD18 3LA\, United Kingdom
END:VEVENT
BEGIN:VEVENT
DTSTART;TZID=Europe/London:20191024T193000
DTEND;TZID=Europe/London:20191024T213000
DTSTAMP:20260422T235330
CREATED:20190913T133630Z
LAST-MODIFIED:20190913T133630Z
UID:504-1571945400-1571952600@www.ellataylorsoprano.co.uk
SUMMARY:Berg - Lyric Suite
DESCRIPTION:Soprano soloist performing with the Ligeti Quartet. \nFrom hidden romantic messages\, metacommunication\, and onto the hauntingly beautiful howling of dogs\, the Ligeti Quartet explores the infinite and multifaceted nature of communication. Works from Patricia Alessandrini and Alban Berg accompany a brand new commission by Robin Haigh and his full length quartet expanding on Samoyeds (Centre for New Music at Sheffield\, 2018) which was based on a YouTube video of a pack of dogs imitating a siren.
URL:https://www.ellataylorsoprano.co.uk/event/berg-lyric-suite/
LOCATION:Firth Hall\, Firth Court\, Western Bank\, Sheffield\, S10 2TN\, United Kingdom
END:VEVENT
BEGIN:VEVENT
DTSTART;TZID=Europe/London:20191023T190000
DTEND;TZID=Europe/London:20191023T220000
DTSTAMP:20260422T235330
CREATED:20191021T123020Z
LAST-MODIFIED:20191021T123020Z
UID:510-1571857200-1571868000@www.ellataylorsoprano.co.uk
SUMMARY:Overture: Introducing the 2019/20 National Opera Studio Young Artists
DESCRIPTION:Overture is our annual celebration of the new Young Artist intake\, as they embark on nine months of intensive training in our world-renowned Training Programme. \nThe performance will feature operatic arias and duets performed by the talented singers and répétiteurs of the National Opera Studio\, in the beautiful home of Bob and Elisabeth Boas.  Following the concert\, there will be an opportunity to meet all of the artists over drinks and canapés. \n7.00pm: Drinks on arrival \n7.30pm: Performance \n8.45pm: Reception \n10:15: Carriages
URL:https://www.ellataylorsoprano.co.uk/event/overture-introducing-the-2019-20-national-opera-studio-young-artists/
LOCATION:22 Mansfield Street\, 22 Mansfield Street\, London\, W1G 9NR\, United Kingdom
END:VEVENT
BEGIN:VEVENT
DTSTART;TZID=Europe/London:20191012T190000
DTEND;TZID=Europe/London:20191019T213000
DTSTAMP:20260422T235330
CREATED:20181223T170525Z
LAST-MODIFIED:20191010T203321Z
UID:422-1570906800-1571520600@www.ellataylorsoprano.co.uk
SUMMARY:Mendelssohn - St Paul
DESCRIPTION:Performing as the soprano soloist with the Overgate Hospice Choir
URL:https://www.ellataylorsoprano.co.uk/event/mendelssohn-st-paul/
LOCATION:Halifax Minster\, Causeway\, Halifax\, HX1 1QL
END:VEVENT
BEGIN:VEVENT
DTSTART;TZID=Europe/London:20191005T193000
DTEND;TZID=Europe/London:20191005T213000
DTSTAMP:20260422T235330
CREATED:20190913T132508Z
LAST-MODIFIED:20190913T132508Z
UID:496-1570303800-1570311000@www.ellataylorsoprano.co.uk
SUMMARY:Brahms - Requiem
DESCRIPTION:Soprano soloist with the Sheffield Bach Choir. \nBaritone – Alex Ashworth
URL:https://www.ellataylorsoprano.co.uk/event/brahms-requiem-2/
LOCATION:Sheffield Cathedral\, Church Street\, Sheffield\, S1 1HA\, United Kingdom
END:VEVENT
BEGIN:VEVENT
DTSTART;TZID=Europe/London:20190926T193000
DTEND;TZID=Europe/London:20190926T220000
DTSTAMP:20260422T235330
CREATED:20190913T133212Z
LAST-MODIFIED:20190913T133212Z
UID:500-1569526200-1569535200@www.ellataylorsoprano.co.uk
SUMMARY:Peter Hulsen Orchestral Song Award Final
DESCRIPTION:Finalist in the Peter Hulsen Orchestral Song Award performing a selection of Britten’s Les Illuminations.
URL:https://www.ellataylorsoprano.co.uk/event/peter-hulsen-orchestral-song-award-final/
LOCATION:St John’s Waterloo\, Waterloo Road\, London\, SE1 8TY\, United Kingdom
END:VEVENT
BEGIN:VEVENT
DTSTART;TZID=Europe/London:20190920T200000
DTEND;TZID=Europe/London:20190920T210000
DTSTAMP:20260422T235330
CREATED:20190913T132855Z
LAST-MODIFIED:20190913T132855Z
UID:498-1569009600-1569013200@www.ellataylorsoprano.co.uk
SUMMARY:Lizée - Malfunctionlieder
DESCRIPTION:Performing Nicole Lizée’s Malfunctionlieder with pianist Lysandre Ménard. \nOther works:\nSciarrino – Anamorfosi\nLizée – Hitchcock Etudes \nVenue:\nAngela Burgess Recital Hall
URL:https://www.ellataylorsoprano.co.uk/event/lizee-malfunctionlieder/
LOCATION:Royal Academy of Music\, Marylebone Rd\, Marylebone\, London\, NW1 5HT\, United Kingdom
END:VEVENT
END:VCALENDAR