BEGIN:VCALENDAR
VERSION:2.0
PRODID:-//Ella Taylor - ECPv6.15.20//NONSGML v1.0//EN
CALSCALE:GREGORIAN
METHOD:PUBLISH
X-WR-CALNAME:Ella Taylor
X-ORIGINAL-URL:https://www.ellataylorsoprano.co.uk
X-WR-CALDESC:Events for Ella Taylor
REFRESH-INTERVAL;VALUE=DURATION:PT1H
X-Robots-Tag:noindex
X-PUBLISHED-TTL:PT1H
BEGIN:VTIMEZONE
TZID:Europe/London
BEGIN:DAYLIGHT
TZOFFSETFROM:+0000
TZOFFSETTO:+0100
TZNAME:BST
DTSTART:20250330T010000
END:DAYLIGHT
BEGIN:STANDARD
TZOFFSETFROM:+0100
TZOFFSETTO:+0000
TZNAME:GMT
DTSTART:20251026T010000
END:STANDARD
BEGIN:DAYLIGHT
TZOFFSETFROM:+0000
TZOFFSETTO:+0100
TZNAME:BST
DTSTART:20260329T010000
END:DAYLIGHT
BEGIN:STANDARD
TZOFFSETFROM:+0100
TZOFFSETTO:+0000
TZNAME:GMT
DTSTART:20261025T010000
END:STANDARD
BEGIN:DAYLIGHT
TZOFFSETFROM:+0000
TZOFFSETTO:+0100
TZNAME:BST
DTSTART:20270328T010000
END:DAYLIGHT
BEGIN:STANDARD
TZOFFSETFROM:+0100
TZOFFSETTO:+0000
TZNAME:GMT
DTSTART:20271031T010000
END:STANDARD
END:VTIMEZONE
BEGIN:VEVENT
DTSTART;TZID=Europe/London:20260509T203000
DTEND;TZID=Europe/London:20260509T223000
DTSTAMP:20260420T083117
CREATED:20260217T171249Z
LAST-MODIFIED:20260217T171249Z
UID:1255-1778358600-1778365800@www.ellataylorsoprano.co.uk
SUMMARY:Avond van de Filmmuziek - Antwerp
DESCRIPTION:Ella performs with the Antwerp Philharmonic Orchestra and conductor Alexandra Arrieche in an evening of film music at the AFAS Dome\, in Antwerp.
URL:https://www.ellataylorsoprano.co.uk/event/avond-van-de-filmmuziek-antwerp/
LOCATION:AFAS Dome\, Schijnpoortweg 119\, Antwerp\, 2170\, Belgium
END:VEVENT
END:VCALENDAR